Workbook
Name __xlnm.Print_Area: 'Spielbericht 3 M'!$A$1:$F$31

Sheet Spielbericht 3 M
A2: Turnier der Minis
A5: An
A6: Klassenleiterin Mini
A7: Bezirk Darmstadt
A8: Susanne Kübler
A9: Jahnstr. 12 | D9: ( 0176/75220840
A10: 64380 Roßdorf | D10: eMail: kl-minis@hhv-darmstadt.de susanne.kuebler@gmx.net
A13: Datum: | D13: Teilnehmende Mannschaften
D14: 1.
A15: ab: | D15: 2.
D16: 3.
A17: Spielform:
A19: Spielort:
A23: Uhrzeit | B23: Heimmannschaft | D23: Gastmannschaft | E23: Ergebnis
A24: =B15 -> 0 | B24: =E14 -> 0 | D24: =E15 -> 0 | E24: :
A25: =A24+TIME(0,15,0) -> 0.010416667 | B25: Pause
A26: =A25+TIME(0,5,0) -> 0.013888889 | B26: =E15 -> 0 | D26: =E16 -> 0 | E26: :
A27: =A26+TIME(0,15,0) -> 0.024305556 | B27: Pause
A28: =A27+TIME(0,5,0) -> 0.027777778 | B28: =E16 -> 0 | D28: =E14 -> 0
A29: =A28+TIME(0,15,0) -> 0.038194444 | B29: Pause
A30: =A29+TIME(0,5,0) -> 0.041666667 | B30: =E15 -> 0 | D30: =E14 -> 0
A31: =A30+TIME(0,15,0) -> 0.052083333 | B31: Pause
A32: =A31+TIME(0,5,0) -> 0.055555556 | B32: =E16 -> 0 | D32: =E15 -> 0 | E32: :
A33: =A32+TIME(0,15,0) -> 0.065972222 | B33: Pause
A34: =A33+TIME(0,5,0) -> 0.069444444 | B34: =E14 -> 0 | D34: =E16 -> 0 | E34: :
A36: Bitte Mannschaftsaufstellung auf Seite 2 eintragen
A38: Bemerkung:

Sheet Mannschaftsliste 3 M
B1: TurnierNr.: | C1: ='Spielbericht 3 M'!D2 -> 0 | G1: anwesend | H1: verspätet | I1: fehlt entschuldigt | J1: fehlt unentschuldigt
B3: Datum: | C3: ='Spielbericht 3 M'!B13 -> 0
B5: Spiel-Ort: | C5: ='Spielbericht 3 M'!B19 -> 0
B8: Teilnehmer:
B9: 1. | C9: ='Spielbericht 3 M'!E14 -> 0
B12: 2. | C12: ='Spielbericht 3 M'!E15 -> 0
B15: 3. | C15: ='Spielbericht 3 M'!E16 -> 0
A19: Mannschaft 1: | C19: ='Spielbericht 3 M'!E14 -> 0 | G19: Mannschaft 2: | I19: ='Spielbericht 3 M'!E15 -> 0
A21: Nr. | B21: Vorname, Nachname | D21: Geburtsdat. | E21: Pass/Geschl. | G21: Nr. | H21: Vorname, Nachname | J21: Geburtsdat. | L21: Geburtsdat.
A38: A | D38: Manschaftsverantwortliche/r | G38: A | J38: Manschaftsverantwortliche/r
A39: B | D39: Offizielle/r | G39: B | J39: Offizielle/r
A40: C | D40: Offizielle/r | G40: C | J40: Offizielle/r | L40: Offizielle/r
A41: D | D41: Offizielle/r | G41: D | J41: Offizielle/r | L41: Offizielle/r
A43: Mannschaft 3: | C43: ='Spielbericht 3 M'!E16 -> 0
A45: Nr. | B45: Vorname, Nachname | D45: Geburtsdat. | E45: Pass/Geschl.
A62: A | D62: Manschaftsverantwortliche/r
A63: B | D63: Offizielle/r
A64: C | D64: Offizielle/r
A65: D | D65: Offizielle/r

Sheet Spielbericht 4 M
A2: Turnier der Minis
L3: 2 x 3 gg. 3
L4: 4 + 1
A5: An
A6: Klassenleiterin Mini
A7: Bezirk Darmstadt
A8: Susanne Kübler
A9: Jahnstr. 12 | D9: ( 0176/75220840
A10: 64380 Roßdorf | D10: eMail: kl-minis@hhv-darmstadtde
A13: Datum: | D13: Teilnehmende Mannschaften
A15: ab:
A17: Spielform:
A19: Spielort:
A23: Uhrzeit | B23: Heimmannschaft | D23: Gastmannschaft | E23: Ergebnis
A24: =B15 -> 0 | B24: =D14 -> 0 | D24: =D15 -> 0 | F24: :
A25: =A24+TIME(0,25,0) -> 0.017361111 | B25: =D16 -> 0 | D25: =D17 -> 0 | F25: :
A26: =A25+TIME(0,25,0) -> 0.034722222 | B26: =D15 -> 0 | D26: =D16 -> 0 | F26: :
A27: =A26+TIME(0,25,0) -> 0.052083333 | B27: =D14 -> 0 | D27: =D17 -> 0 | F27: :
A28: =A27+TIME(0,25,0) -> 0.069444444 | B28: =D15 -> 0 | D28: =D17 -> 0 | F28: :
A29: =A28+TIME(0,25,0) -> 0.086805556 | B29: =D16 -> 0 | D29: =D14 -> 0 | F29: :
A32: Bemerkungen:
A43: Bitte Mannschaftsaufstellung auf Seite 2 eintragen

Sheet Mannschaftsliste 4 M
A1: ='[1]Spielbericht 4 M'!D14 -> 0 | F1: ='[1]Spielbericht 4 M'!D15 -> 0 | H1: ='[1]Spielbericht 4 M'!D15 -> 0
A3: Nr. | B3: Vorname, Nachname | C3: Geburtsdatum | D3: m/w | F3: Nr. | G3: Vorname, Nachname | H3: Geburtsdatum | I3: m/w
A20: A | B20: MV | F20: A | G20: MV
A21: B | B21: Offizielle/r | F21: B | G21: Offizielle/r
A22: C | B22: Offizielle/r | F22: C | G22: Offizielle/r
A23: D | B23: Offizielle/r | F23: D | G23: Offizielle/r
A25: ='[1]Spielbericht 4 M'!D16 -> 0 | F25: ='[1]Spielbericht 4 M'!D17 -> 0 | H25: ='[1]Spielbericht 4 M'!D17 -> 0
A27: Nr. | B27: Vorname, Nachname | C27: Geburtsdatum | D27: m/w | F27: Nr. | G27: Vorname, Nachname | H27: Geburtsdatum | I27: m/w
A44: A | B44: MV | F44: A | G44: MV
A45: B | B45: Offizielle/r | F45: B | G45: Offizielle/r
A46: C | B46: Offizielle/r | F46: C | G46: Offizielle/r
A47: D | B47: Offizielle/r | F47: D | G47: Offizielle/r
